BEGIN:VCALENDAR
VERSION:2.0
PRODID:-//Kritika HDP - ECPv6.15.20//NONSGML v1.0//EN
CALSCALE:GREGORIAN
METHOD:PUBLISH
X-WR-CALNAME:Kritika HDP
X-ORIGINAL-URL:https://kritika-hdp.hr
X-WR-CALDESC:Događaji za Kritika HDP
REFRESH-INTERVAL;VALUE=DURATION:PT1H
X-Robots-Tag:noindex
X-PUBLISHED-TTL:PT1H
BEGIN:VTIMEZONE
TZID:Europe/Zagreb
BEGIN:DAYLIGHT
TZOFFSETFROM:+0100
TZOFFSETTO:+0200
TZNAME:CEST
DTSTART:20220327T010000
END:DAYLIGHT
BEGIN:STANDARD
TZOFFSETFROM:+0200
TZOFFSETTO:+0100
TZNAME:CET
DTSTART:20221030T010000
END:STANDARD
BEGIN:DAYLIGHT
TZOFFSETFROM:+0100
TZOFFSETTO:+0200
TZNAME:CEST
DTSTART:20230326T010000
END:DAYLIGHT
BEGIN:STANDARD
TZOFFSETFROM:+0200
TZOFFSETTO:+0100
TZNAME:CET
DTSTART:20231029T010000
END:STANDARD
BEGIN:DAYLIGHT
TZOFFSETFROM:+0100
TZOFFSETTO:+0200
TZNAME:CEST
DTSTART:20240331T010000
END:DAYLIGHT
BEGIN:STANDARD
TZOFFSETFROM:+0200
TZOFFSETTO:+0100
TZNAME:CET
DTSTART:20241027T010000
END:STANDARD
END:VTIMEZONE
BEGIN:VEVENT
DTSTART;VALUE=DATE:20230619
DTEND;VALUE=DATE:20230913
DTSTAMP:20260419T232912
CREATED:20230619T201134Z
LAST-MODIFIED:20230802T201603Z
UID:9413-1687140000-1694483999@kritika-hdp.hr
SUMMARY:Objavljen Javni poziv za dodjelu potpora za poticanje književnoga stvaralaštva u 2024. godini (Rok: 11. rujna 2023.)
DESCRIPTION:Potpora se neće dodjeljivati autorima za publicistička i stručna djela te za pripremu znanstvenih radova\, a pravo podnošenja prijave na ovaj Javni poziv koji ostaje otvoren do 11. rujna 2023. godine imaju sve fizičke osobe\, državljani Republike Hrvatske.    \n\nDodjeljivat će se: \n• godišnje potpore u pojedinačnom iznosu od 12.000\,00 €\n• polugodišnje potpore u pojedinačnom iznosu od 6.000\,00 €\n• tromjesečne potpore u iznosu od 3.000\,00 € \nPotpore će se isplaćivati autorima u mjesečnim obrocima od 1.000\,00 €. Prijava s cjelovitom dokumentacijom (ogledni arak i sinopsis\, životopis i bibliografija te dvije recenzije) podnosi se isključivo elektronički\, putem sustava eprijavnica. \nSva pitanja vezana uz ovaj Poziv mogu se postaviti elektroničkim putem\, na adresu: knjizevno.stvaralastvo@min-kulture.hr 
URL:https://kritika-hdp.hr/dogadjaji/objavljen-javni-poziv-za-dodjelu-potpora-za-poticanje-knjizevnoga-stvaralastva-u-2024-godini-rok-11-rujna-2023/
ATTACH;FMTTYPE=image/jpeg:https://kritika-hdp.hr/wp-content/uploads/2023/05/MKM-logo.jpg
END:VEVENT
END:VCALENDAR