BEGIN:VCALENDAR
VERSION:2.0
PRODID:-//Kritika HDP - ECPv6.15.20//NONSGML v1.0//EN
CALSCALE:GREGORIAN
METHOD:PUBLISH
X-WR-CALNAME:Kritika HDP
X-ORIGINAL-URL:https://kritika-hdp.hr
X-WR-CALDESC:Događaji za Kritika HDP
REFRESH-INTERVAL;VALUE=DURATION:PT1H
X-Robots-Tag:noindex
X-PUBLISHED-TTL:PT1H
BEGIN:VTIMEZONE
TZID:Europe/Zagreb
BEGIN:DAYLIGHT
TZOFFSETFROM:+0100
TZOFFSETTO:+0200
TZNAME:CEST
DTSTART:20220327T010000
END:DAYLIGHT
BEGIN:STANDARD
TZOFFSETFROM:+0200
TZOFFSETTO:+0100
TZNAME:CET
DTSTART:20221030T010000
END:STANDARD
BEGIN:DAYLIGHT
TZOFFSETFROM:+0100
TZOFFSETTO:+0200
TZNAME:CEST
DTSTART:20230326T010000
END:DAYLIGHT
BEGIN:STANDARD
TZOFFSETFROM:+0200
TZOFFSETTO:+0100
TZNAME:CET
DTSTART:20231029T010000
END:STANDARD
BEGIN:DAYLIGHT
TZOFFSETFROM:+0100
TZOFFSETTO:+0200
TZNAME:CEST
DTSTART:20240331T010000
END:DAYLIGHT
BEGIN:STANDARD
TZOFFSETFROM:+0200
TZOFFSETTO:+0100
TZNAME:CET
DTSTART:20241027T010000
END:STANDARD
END:VTIMEZONE
BEGIN:VEVENT
DTSTART;TZID=Europe/Zagreb:20230422T130000
DTEND;TZID=Europe/Zagreb:20230422T180000
DTSTAMP:20260420T125848
CREATED:20230417T172033Z
LAST-MODIFIED:20230417T172142Z
UID:8551-1682168400-1682186400@kritika-hdp.hr
SUMMARY:Noć knjige 2023: Svi za knjigu\, knjiga za svakoga!
DESCRIPTION:Booksa organizira prvu ovogodišnju akciju “Svi za knjigu\, knjiga za svakoga!”\, koju sada već tradicionalno održava povodom Noći knjige\, dvadeset i drugog travnja u Booksi u 11 sati.\nPrenosimo dio poziva:\nSudeći po popularnosti i posjećenosti akcije\, sigurni smo da vam je koncept dobro poznat\, ali za slučaj da neki od vas ne znaju o čemu se radi\, ponovit ćemo. Nekoliko puta godišnje Booksa organizira ovu akciju na kojoj vam nudi sve svoje prikupljene knjige za simboličnu donaciju.\nKnjige skupljamo\, spašavamo i udomljavamo cijele godine\, a od zadnje akcije skupio se poveći broj. Razvrstane su po temama\, žanrovima\, jezicima\, a među njima i rijetkih izdanja i potpisanih primjeraka\, bitnih knjiga iz teorije književnosti\, teatrologije\, povijesti umjetnosti\, ali i iz ekonomije i znanosti te\, kao i uvijek\, puuuuuno beletristike\, i domaće i strane!\nOva akcija zaštitni je znak našeg kluba baš zbog svoje interaktivne prirode i okupljalačkog potencijala. Karakterizira je otvoreni dijalog Bookse i naše široke čitateljske publike: naši članovi i podržavatelji doniraju svoj višak knjiga\, mi dio prosljeđujemo knjižnicama u manjim gradovima ili na otocima\, a ostatak nudimo na ovoj akciji koja ih time čini dostupnima onima koji ih trebaju i vole. Akcija je svima korisna: i vama koji više nemate mjesta za knjige u stanu\, i vama koji svoje biblioteke još prikupljate.\nVidimo se u Booksi!\n\nPoveznica za Facebook događaj: Booksa.
URL:https://kritika-hdp.hr/dogadjaji/noc-knjige-2023-svi-za-knjigu-knjiga-za-svakoga/
LOCATION:Booksa\, Martićeva ul. 14D\, Zagreb\, Croatia (Local Name: Hrvatska)
ATTACH;FMTTYPE=image/jpeg:https://kritika-hdp.hr/wp-content/uploads/2023/04/340983587_536209642027293_7503701144701992432_n.jpg
END:VEVENT
END:VCALENDAR