BEGIN:VCALENDAR
VERSION:2.0
PRODID:-//Kritika HDP - ECPv6.15.20//NONSGML v1.0//EN
CALSCALE:GREGORIAN
METHOD:PUBLISH
X-WR-CALNAME:Kritika HDP
X-ORIGINAL-URL:https://kritika-hdp.hr
X-WR-CALDESC:Događaji za Kritika HDP
REFRESH-INTERVAL;VALUE=DURATION:PT1H
X-Robots-Tag:noindex
X-PUBLISHED-TTL:PT1H
BEGIN:VTIMEZONE
TZID:Europe/Zagreb
BEGIN:DAYLIGHT
TZOFFSETFROM:+0100
TZOFFSETTO:+0200
TZNAME:CEST
DTSTART:20240331T010000
END:DAYLIGHT
BEGIN:STANDARD
TZOFFSETFROM:+0200
TZOFFSETTO:+0100
TZNAME:CET
DTSTART:20241027T010000
END:STANDARD
BEGIN:DAYLIGHT
TZOFFSETFROM:+0100
TZOFFSETTO:+0200
TZNAME:CEST
DTSTART:20250330T010000
END:DAYLIGHT
BEGIN:STANDARD
TZOFFSETFROM:+0200
TZOFFSETTO:+0100
TZNAME:CET
DTSTART:20251026T010000
END:STANDARD
BEGIN:DAYLIGHT
TZOFFSETFROM:+0100
TZOFFSETTO:+0200
TZNAME:CEST
DTSTART:20260329T010000
END:DAYLIGHT
BEGIN:STANDARD
TZOFFSETFROM:+0200
TZOFFSETTO:+0100
TZNAME:CET
DTSTART:20261025T010000
END:STANDARD
END:VTIMEZONE
BEGIN:VEVENT
DTSTART;VALUE=DATE:20250218
DTEND;VALUE=DATE:20250501
DTSTAMP:20260419T190146
CREATED:20250218T133326Z
LAST-MODIFIED:20250218T133359Z
UID:14677-1739836800-1746057599@kritika-hdp.hr
SUMMARY:Natječaj za najbolju neobjavljenu kratku priču nadahnutu djelima Antuna Gustava Matoša ili njegovim životom
DESCRIPTION:Prigodom obilježavanja 152. obljetnice rođenja i 111. obljetnice smrti Antuna Gustava Matoša (Tovarnik\, 13. VI. 1873.—Zagreb 17. III. 1914.) objavljen je natječaj za najbolju neobjavljenu kratku priču nadahnutu djelima Antuna Gustava Matoša. \nAutor/autorica se može natjecati jednom pričom duljine do 12.000 znakova (uključujući i prorede) napisanu na hrvatskom jeziku. \nPriče ne smiju biti do sada objavljene u tisku\, na internetu ili u video/audio zapisu. \nPriče koje se neće referirati na Antuna Gustava Matoša i njegovo djelo neće se uvrstiti u konkurenciju\, kao ni priče koje budu dulje od 12.000 znakova s proredima\, što je približna duljina prve objavljene Matoševe priče Moć savjesti (objelodanjene 13. kolovoza 1882.\, u Viencu br. 33) \nPrijavom na natječaj autori i autorice pristaju  na objavljivanje odabranih priča u posebnoj zbirci koja će biti objavljena 2026.\, i predstavljena u sklopu 10. Dana Antuna Gustava Matoša. \nSuorganizatori će imenovati povjerenstvo sastavljeno od književnika i/ili književnih kritičara\, koje će izabrati tri najbolje priče čiji/e će autori/ice\, biti nagrađeni prigodnom poveljom i novčanim iznosom: \n1.     nagrada 500 eura\n2.     nagrada 300 eura\n3.     nagrada 200 eura \nProglašenje najboljih priča održat će se u u Tovarniku\, u sklopu manifestacije 9. dani Antuna Gustava Matoša\, u lipnju 2025. \nPriču treba poslati\, uz navedeno ime i prezime autora/ice\, adresu\, e-adresu\, broj telefona/mobitela i kratku biografiju duljine do 1000 znakova s proredima\, na službeni mail Ogranka DHK: dhksbs@gmail.com do 30. travnja 2025.
URL:https://kritika-hdp.hr/dogadjaji/natjecaj-za-najbolju-neobjavljenu-kratku-pricu-nadahnutu-djelima-antuna-gustava-matosa-ili-njegovim-zivotom/
ATTACH;FMTTYPE=image/jpeg:https://kritika-hdp.hr/wp-content/uploads/2025/02/1024px-Antun_Gustav_Matos_statue.jpg
END:VEVENT
END:VCALENDAR