BEGIN:VCALENDAR
VERSION:2.0
PRODID:-//Kritika HDP - ECPv6.15.20//NONSGML v1.0//EN
CALSCALE:GREGORIAN
METHOD:PUBLISH
X-WR-CALNAME:Kritika HDP
X-ORIGINAL-URL:https://kritika-hdp.hr
X-WR-CALDESC:Događaji za Kritika HDP
REFRESH-INTERVAL;VALUE=DURATION:PT1H
X-Robots-Tag:noindex
X-PUBLISHED-TTL:PT1H
BEGIN:VTIMEZONE
TZID:Europe/Zagreb
BEGIN:DAYLIGHT
TZOFFSETFROM:+0100
TZOFFSETTO:+0200
TZNAME:CEST
DTSTART:20210328T010000
END:DAYLIGHT
BEGIN:STANDARD
TZOFFSETFROM:+0200
TZOFFSETTO:+0100
TZNAME:CET
DTSTART:20211031T010000
END:STANDARD
BEGIN:DAYLIGHT
TZOFFSETFROM:+0100
TZOFFSETTO:+0200
TZNAME:CEST
DTSTART:20220327T010000
END:DAYLIGHT
BEGIN:STANDARD
TZOFFSETFROM:+0200
TZOFFSETTO:+0100
TZNAME:CET
DTSTART:20221030T010000
END:STANDARD
BEGIN:DAYLIGHT
TZOFFSETFROM:+0100
TZOFFSETTO:+0200
TZNAME:CEST
DTSTART:20230326T010000
END:DAYLIGHT
BEGIN:STANDARD
TZOFFSETFROM:+0200
TZOFFSETTO:+0100
TZNAME:CET
DTSTART:20231029T010000
END:STANDARD
END:VTIMEZONE
BEGIN:VEVENT
DTSTART;VALUE=DATE:20220424
DTEND;VALUE=DATE:20220523
DTSTAMP:20260419T183344
CREATED:20220424T142411Z
LAST-MODIFIED:20220722T113645Z
UID:1359-1650758400-1653263999@kritika-hdp.hr
SUMMARY:Natječaj za kratku priču za mlade (rok: 22. svibnja)
DESCRIPTION:Kratke priče trebaju biti inspirirane idejom pojma PROMJENA\, a mogu se prijaviti autori/ce od 18 do 30 godina. Prethodno neobjavljene priče moraju biti pisane jezicima regije (hrvatski\, bosanski\, srpski\, crnogorski). \nOstali uvjeti su: \n\nsvaki/a autor/ica može prijaviti najviše dvije priče\npriče duljinom ne smiju prelaziti 10 000 znakova s razmacima\npriče se šalju pod šifrom\, a ime i prezime autora/ice šalje se u sklopu kratke biografije u odvojenom dokumentu\npriče trebaju biti napisane na računalu i poslane u formatu .doc ili .docx (Ariel; veličina slova 12 točaka\, prored 1\,5)\npriče se šalju isključivo na email kontakt@europeanshortstory.org\ndrugačije poslani radovi neće biti uzeti na razmatranje\nnatječaj je javan\nnatječaj je otvoren od 22. travnja do 22. svibnja u 23:59\nradovi pristigli nakon navedenog roka neće biti razmatrani\ndeset priča koje ulaze u finale nagrade objavit ćemo u srijedu\, 1. lipnja na stranici Festivala (org)\ntri priče koje osvajaju nagrade objavljujemo u petak\, 10. lipnja na večernjem čitanju u Zagrebu\nžiri čine pisci\, urednici i književni kritičari: Stjepan Balent\, Antonela Marušić\, Ivana Peruško\, Ivan Tomašić i Korana Serdarević (predsjednica žirija).\n\nNagrade su u rasponu od tisuću do pet tisuća kuna\, a finalisti/kinje će biti pozvani na završnu večer FEKP-a i dodjelu nagrada te će im biti osigurani put i smještaj u Zagrebu. \nZa više informacija posjetite poveznicu: Natječaj.
URL:https://kritika-hdp.hr/dogadjaji/natjecaj-za-kratku-pricu-za-mlade-rok-22-svibnja/
ATTACH;FMTTYPE=image/jpeg:https://kritika-hdp.hr/wp-content/uploads/2022/04/278675647_3516833598440889_7455515743271308069_n.jpg
END:VEVENT
END:VCALENDAR