BEGIN:VCALENDAR
VERSION:2.0
PRODID:-//Kritika HDP - ECPv6.15.20//NONSGML v1.0//EN
CALSCALE:GREGORIAN
METHOD:PUBLISH
X-WR-CALNAME:Kritika HDP
X-ORIGINAL-URL:https://kritika-hdp.hr
X-WR-CALDESC:Događaji za Kritika HDP
REFRESH-INTERVAL;VALUE=DURATION:PT1H
X-Robots-Tag:noindex
X-PUBLISHED-TTL:PT1H
BEGIN:VTIMEZONE
TZID:Europe/Zagreb
BEGIN:DAYLIGHT
TZOFFSETFROM:+0100
TZOFFSETTO:+0200
TZNAME:CEST
DTSTART:20220327T010000
END:DAYLIGHT
BEGIN:STANDARD
TZOFFSETFROM:+0200
TZOFFSETTO:+0100
TZNAME:CET
DTSTART:20221030T010000
END:STANDARD
BEGIN:DAYLIGHT
TZOFFSETFROM:+0100
TZOFFSETTO:+0200
TZNAME:CEST
DTSTART:20230326T010000
END:DAYLIGHT
BEGIN:STANDARD
TZOFFSETFROM:+0200
TZOFFSETTO:+0100
TZNAME:CET
DTSTART:20231029T010000
END:STANDARD
BEGIN:DAYLIGHT
TZOFFSETFROM:+0100
TZOFFSETTO:+0200
TZNAME:CEST
DTSTART:20240331T010000
END:DAYLIGHT
BEGIN:STANDARD
TZOFFSETFROM:+0200
TZOFFSETTO:+0100
TZNAME:CET
DTSTART:20241027T010000
END:STANDARD
BEGIN:DAYLIGHT
TZOFFSETFROM:+0100
TZOFFSETTO:+0200
TZNAME:CEST
DTSTART:20250330T010000
END:DAYLIGHT
BEGIN:STANDARD
TZOFFSETFROM:+0200
TZOFFSETTO:+0100
TZNAME:CET
DTSTART:20251026T010000
END:STANDARD
END:VTIMEZONE
BEGIN:VEVENT
DTSTART;TZID=Europe/Zagreb:20231115T090000
DTEND;TZID=Europe/Zagreb:20240315T180000
DTSTAMP:20260419T190221
CREATED:20231116T175509Z
LAST-MODIFIED:20231218T180817Z
UID:10553-1700038800-1710525600@kritika-hdp.hr
SUMMARY:Natječaj za kratku priču metaFORA2024. - budi karakter
DESCRIPTION:Dvanaesta metaFORA poziva da se posebna pozornost posveti likovima priča\, kako bi se kroz naraciju razvili njihovi neponovljivi\, jedinstveni karakteri (rok: 15.3.2024.)\nNatječaj za kratku priču metaFORA2024. – budi karakter stavlja u fokus lik kao temeljni gradivni element svake priče.\nLik kojemu daš karakter\, uzvratit će ti dobrom pričom! \nmetaFORA je natječaj za najbolju kratku priču koju Knjižnica Vladimira Nazora pokreće dvanaestu godinu zaredom. Natječaj se raspisuje krajem Mjeseca hrvatske knjige\, a njegova završnica\, proglašenje najboljih\, zbiva se u Noći knjige. Pozivamo pisce svih generacija i afiniteta\, početnike ili već afirmirane da nam pošalju svoje priče! \nPropozicije natječaja za kratku priču metaFORA 2024. – budi karakter: \n\npriča treba imati naglasak na liku\nautor može sudjelovati samo s jednom pričom pisanom na hrvatskom književnom jeziku ili dijalektu\ntreba obuhvaćati maksimalno 5.400 znakova s razmacima; preferirani format .docx\nne smije biti objavljena sve do proglašenja najboljih\nproglašenje najboljih priča i javno čitanje održat će se u travnju 2024. u Noći knjige\ngeneracijski profiliran natječaj\, dva žirija (djeca/odrasli)\npriče se šalju na e-mail:\n\nforamala2024@kgz.hr (djeca osnovne škole)\nmetafora2024@kgz.hr (odrasli)\n\n\nuz priču je potrebno navesti ime i prezime autora\, godinu rođenja\, adresu stanovanja\, adresu elektronske pošte i broj telefona (podaci će biti zaštićeni; dijete prijavljuje roditelj ili druga odgovorna odrasla osoba)\nnatječaj je otvoren od 15. studenog 2023. do 15. ožujka 2024.\npopis pristiglih priča objavit će se na mrežnim stranicama Knjižnica grada Zagreba\, a najbolje će biti objavljene u cijelosti\nautorima najboljih priča zajamčene su atraktivne nagrade\n\nOdluku o najboljima donijet će žiri u sastavu: \nZa odrasle: \n\nBoris Beck\, pisac\nDalibor Šimpraga\, pisac i urednik\nDraženka Robotić\, knjižničarka\nPetra Dolanjski\, knjižničarka\nDora Mihanović\, pobjednica metaFORE 2023.\n\nZa djecu: \n\nIrena Plejić Premec\, spisateljica\nRahela Frelih\, knjižničarka\nTena Panić\, pobjednica FORAmale 2023.
URL:https://kritika-hdp.hr/dogadjaji/natjecaj-za-kratku-pricu-metafora2024-budi-karakter/
ATTACH;FMTTYPE=image/jpeg:https://kritika-hdp.hr/wp-content/uploads/2023/12/metafora_2024_556.jpg
END:VEVENT
END:VCALENDAR