BEGIN:VCALENDAR
VERSION:2.0
PRODID:-//Kritika HDP - ECPv6.15.20//NONSGML v1.0//EN
CALSCALE:GREGORIAN
METHOD:PUBLISH
X-WR-CALNAME:Kritika HDP
X-ORIGINAL-URL:https://kritika-hdp.hr
X-WR-CALDESC:Događaji za Kritika HDP
REFRESH-INTERVAL;VALUE=DURATION:PT1H
X-Robots-Tag:noindex
X-PUBLISHED-TTL:PT1H
BEGIN:VTIMEZONE
TZID:Europe/Zagreb
BEGIN:DAYLIGHT
TZOFFSETFROM:+0100
TZOFFSETTO:+0200
TZNAME:CEST
DTSTART:20210328T010000
END:DAYLIGHT
BEGIN:STANDARD
TZOFFSETFROM:+0200
TZOFFSETTO:+0100
TZNAME:CET
DTSTART:20211031T010000
END:STANDARD
BEGIN:DAYLIGHT
TZOFFSETFROM:+0100
TZOFFSETTO:+0200
TZNAME:CEST
DTSTART:20220327T010000
END:DAYLIGHT
BEGIN:STANDARD
TZOFFSETFROM:+0200
TZOFFSETTO:+0100
TZNAME:CET
DTSTART:20221030T010000
END:STANDARD
BEGIN:DAYLIGHT
TZOFFSETFROM:+0100
TZOFFSETTO:+0200
TZNAME:CEST
DTSTART:20230326T010000
END:DAYLIGHT
BEGIN:STANDARD
TZOFFSETFROM:+0200
TZOFFSETTO:+0100
TZNAME:CET
DTSTART:20231029T010000
END:STANDARD
END:VTIMEZONE
BEGIN:VEVENT
DTSTART;TZID=Europe/Zagreb:20221103T080000
DTEND;TZID=Europe/Zagreb:20221124T170000
DTSTAMP:20260420T112748
CREATED:20221103T152351Z
LAST-MODIFIED:20221104T094502Z
UID:6927-1667462400-1669309200@kritika-hdp.hr
SUMMARY:Natječaj Skribonauta za kratku priču: “Nastavi priču”
DESCRIPTION:Skribonauti vas pozivaju da se okušate u nastavljanju tuđe priče\, baš kao što je to napravilo 12 naših vrsnih spisateljica u zbirci „Nastavi priču”. Zadatak je jednostavan: \n1) Zadubite se u fragment čija je autorica jedna od polaznica našeg književnog kluba u Ženskoj kaznionici u Požegi: \nRekao je: „Evo zagrabite i jedite koliko vam duša ‘oće.” Dugo je trajala zdravica. \nTonia \n2) Inspirirajte se njegovim sadržajem\, formom\, likovima\, preuzmite cijelu rečenicu ili samo njezin dio. Imate odriješene ruke\, samo napišite priču. I naravno\, pošaljite je nama na natječaj! \nPropozicije natječaja \n• na natječaj se mogu prijaviti autori/ce koji/e pišu na BHS-u (jezicima regije) \n• prihvaćaju se samo prethodno neobjavljene priče \n• svaka autorica/autor može prijaviti najviše jednu priču \n• priče duljinom ne smiju prelaziti 9.000 znakova s razmacima \n• priče se šalju pod šifrom (npr. Pinokio123 ); rješenje šifre i osobni podatci autora/ica – ime i prezime\, mail adresa i broj telefona – šalju se u zasebnom dokumentu \n• priče trebaju biti napisane na računalu i poslane u formatu .doc ili .docx (Times New Roman; veličina slova 12\, prored 1\,5) \n• priče se šalju isključivo na email: skribonauti@gmail.com \n• drugačije poslani radovi neće biti uzeti na razmatranje \n• natječaj je javan \n• natječaj je otvoren od 12. listopada do 24. studenog u 23:59. Radovi pristigli nakon navedenog roka neće biti razmatrani. \n• tri priče koje osvajaju nagrade objavit ćemo 10. prosinca na mrežnim stranicama Skribonauta: \nwww. skribonauti.hr. \nNagrade \nPrva nagrada: 3000 kuna \nDruga nagrada: 2000 kuna \nTreća nagrada: 1000 kuna \nSretno! \n*Projekt Nastavi priču realizira se uz potporu Zaklade Kultura Nova i Ministarstva kulture RH. 
URL:https://kritika-hdp.hr/dogadjaji/natjecaj-skribonauta-za-kratku-pricu-nastavi-pricu/
ATTACH;FMTTYPE=image/jpeg:https://kritika-hdp.hr/wp-content/uploads/2022/11/sss.jpg
END:VEVENT
END:VCALENDAR