BEGIN:VCALENDAR
VERSION:2.0
PRODID:-//Kritika HDP - ECPv6.15.20//NONSGML v1.0//EN
CALSCALE:GREGORIAN
METHOD:PUBLISH
X-WR-CALNAME:Kritika HDP
X-ORIGINAL-URL:https://kritika-hdp.hr
X-WR-CALDESC:Događaji za Kritika HDP
REFRESH-INTERVAL;VALUE=DURATION:PT1H
X-Robots-Tag:noindex
X-PUBLISHED-TTL:PT1H
BEGIN:VTIMEZONE
TZID:Europe/Zagreb
BEGIN:DAYLIGHT
TZOFFSETFROM:+0100
TZOFFSETTO:+0200
TZNAME:CEST
DTSTART:20200329T010000
END:DAYLIGHT
BEGIN:STANDARD
TZOFFSETFROM:+0200
TZOFFSETTO:+0100
TZNAME:CET
DTSTART:20201025T010000
END:STANDARD
BEGIN:DAYLIGHT
TZOFFSETFROM:+0100
TZOFFSETTO:+0200
TZNAME:CEST
DTSTART:20210328T010000
END:DAYLIGHT
BEGIN:STANDARD
TZOFFSETFROM:+0200
TZOFFSETTO:+0100
TZNAME:CET
DTSTART:20211031T010000
END:STANDARD
BEGIN:DAYLIGHT
TZOFFSETFROM:+0100
TZOFFSETTO:+0200
TZNAME:CEST
DTSTART:20220327T010000
END:DAYLIGHT
BEGIN:STANDARD
TZOFFSETFROM:+0200
TZOFFSETTO:+0100
TZNAME:CET
DTSTART:20221030T010000
END:STANDARD
END:VTIMEZONE
BEGIN:VEVENT
DTSTART;VALUE=DATE:20210921
DTEND;VALUE=DATE:20211021
DTSTAMP:20260420T125900
CREATED:20210921T100457Z
LAST-MODIFIED:20220724T203936Z
UID:1298-1632182400-1634774399@kritika-hdp.hr
SUMMARY:Natječaj "Ovca u kutiji" za najbolju slikovnicu: rok 20. listopada
DESCRIPTION:Knjiga u centru raspisala je Javni natječaj za nagradu Ovca u kutiji za najbolju hrvatsku slikovnicu. U nastavku je tekst natječaja: \n1. Knjiga u centru organizator književno-likovne nagrade «Ovca u kutiji» za najbolju slikovnicu objavljenu u Republici Hrvatskoj\, raspisuje natječaj za slikovnice čiji su i tekst i ilustracije prvi put objavljene u razdoblju od listopada 2020. godine do listopada 2021. godine. \n2. Slikovnice moraju biti izvorno napisane na hrvatskom jeziku i objavljene kod domaćeg nakladnika. Ilustracije smiju biti djelo umjetnika iz drugih zemalja ukoliko su naslikane prema originalnom tekstu izvorno napisanom na hrvatskom jeziku. Slikovnice mogu biti namijenjene bilo kojoj čitateljskoj dobi. Pri procjeni kvalitete pazit će se podjednako na kvalitetu teksta i na kvalitetu ilustracija\, a osobito na povezanost i nadopunjavanje tih dvaju elemenata. \nIlustrirane zbirke pjesama\, ilustrirane zbirke priča te stripovi ne spadaju u književnu formu slikovnice te se neće uzimati u obzir prilikom žiriranja. \n3. Natječaj je javan\, a slikovnice se u pet (5) primjeraka isključivo poštom šalju na adresu:\nKNJIGA U CENTRU\nCrnojezerska 20\n10090 ZAGREB \n4. Slikovnice mogu poslati nakladnici ili autori\, a šalju se od 21. rujna do 20. listopada 2021. \n5. Uz knjige\, obavezno poslati kontakt adresu\, telefon\, e-mail adresu nakladnika i autora. Naslovnicu slikovnice poslati e-mailom na zoranpongrasic@yahoo.com u JPG formatu (300 dpi). \n6. Dodijelit će se nagrada Ovca u kutiji stručnog žirija (Ranka Javor\, Anda Bukvić Pažin\, Davor Pavelić) te nagrada Ovca u kutiji dječjeg žirija. \n7. Nagrade se sastoji od skulpture Ovca u kutiji i novčanog iznosa. \n8. Vrijeme i mjesto dodjela nagrada Ovca u kutiji bit će objavljeni naknadno. Događanja vezanu uz dodjelu nagrade Ovca u kutiji mogu se pratiti na facebook stranicama: https://www.facebook.com/KnjigaUCentru i https://www.facebook.com/festivalovcaukutiji \n9. Knjige poslane na natječaj se ne vraćaju. \nKnjiga u centru – info\nKontakt email: knjigaucentru@yahoo.com / zoranpongrasic@yahoo.com
URL:https://kritika-hdp.hr/dogadjaji/natjecaj-ovca-u-kutiji-za-najbolju-slikovnicu-rok-20-listopada/
ATTACH;FMTTYPE=image/jpeg:https://kritika-hdp.hr/wp-content/uploads/2021/09/ovca-u-kutiji.jpg
END:VEVENT
END:VCALENDAR