BEGIN:VCALENDAR
VERSION:2.0
PRODID:-//Kritika HDP - ECPv6.15.20//NONSGML v1.0//EN
CALSCALE:GREGORIAN
METHOD:PUBLISH
X-WR-CALNAME:Kritika HDP
X-ORIGINAL-URL:https://kritika-hdp.hr
X-WR-CALDESC:Događaji za Kritika HDP
REFRESH-INTERVAL;VALUE=DURATION:PT1H
X-Robots-Tag:noindex
X-PUBLISHED-TTL:PT1H
BEGIN:VTIMEZONE
TZID:Europe/Zagreb
BEGIN:DAYLIGHT
TZOFFSETFROM:+0100
TZOFFSETTO:+0200
TZNAME:CEST
DTSTART:20230326T010000
END:DAYLIGHT
BEGIN:STANDARD
TZOFFSETFROM:+0200
TZOFFSETTO:+0100
TZNAME:CET
DTSTART:20231029T010000
END:STANDARD
BEGIN:DAYLIGHT
TZOFFSETFROM:+0100
TZOFFSETTO:+0200
TZNAME:CEST
DTSTART:20240331T010000
END:DAYLIGHT
BEGIN:STANDARD
TZOFFSETFROM:+0200
TZOFFSETTO:+0100
TZNAME:CET
DTSTART:20241027T010000
END:STANDARD
BEGIN:DAYLIGHT
TZOFFSETFROM:+0100
TZOFFSETTO:+0200
TZNAME:CEST
DTSTART:20250330T010000
END:DAYLIGHT
BEGIN:STANDARD
TZOFFSETFROM:+0200
TZOFFSETTO:+0100
TZNAME:CET
DTSTART:20251026T010000
END:STANDARD
END:VTIMEZONE
BEGIN:VEVENT
DTSTART;TZID=Europe/Zagreb:20240625T100000
DTEND;TZID=Europe/Zagreb:20240716T190000
DTSTAMP:20260423T220713
CREATED:20240625T182524Z
LAST-MODIFIED:20240625T183037Z
UID:12014-1719309600-1721156400@kritika-hdp.hr
SUMMARY:Natječaj: Nagrada Janko Polić Kamov
DESCRIPTION:Hrvatsko društvo pisaca ustanovilo je 2014. godine Nagradu Janko Polić Kamov za najbolje književno djelo (proza\, poezija) napisano na hrvatskom jeziku.\nKriterij odabira prvenstveno je književna izvrsnost\, međutim nagrada također promiče inovativnost\, bilo u stilsko-jezičnom ili u tematskom smislu. \nOve godine u izbor za Nagradu Kamov ulaze djela objavljena u periodu od 1.07.2023. do 30.06.2024. godine.\n \nKnjige (4 primjerka) šalju se na adresu Hrvatskog društva pisaca (Basaričekova 24\, 10 000 Zagreb)\, uz napomenu “Za Nagradu Kamov” naznačenu na pošiljci\, a rok za slanje je utorak\, 16.07.2024. (u slučaju dostave na adresu – od 9 do 14 sati). \nNagrada Kamov sastoji se od novčanog iznosa i statue. \nŽiri će objaviti listu finalista u listopadu\, a nagrada će biti dodijeljena u studenom\, na Kamovljev rođendan. \nNagrada se ove godine dodjeljuje u Zagrebu. \nPravilnik Nagrade Kamov: \nhttps://hrvatskodrustvopisaca.hr/hr/projekti/pravilnik-nagrade-janko-polic-kamov-2024-izmjene-i-dopune
URL:https://kritika-hdp.hr/dogadjaji/natjecaj-nagrada-janko-polic-kamov/
ATTACH;FMTTYPE=image/jpeg:https://kritika-hdp.hr/wp-content/uploads/2023/06/kamov.jpg
END:VEVENT
END:VCALENDAR