BEGIN:VCALENDAR
VERSION:2.0
PRODID:-//Kritika HDP - ECPv6.15.20//NONSGML v1.0//EN
CALSCALE:GREGORIAN
METHOD:PUBLISH
X-WR-CALNAME:Kritika HDP
X-ORIGINAL-URL:https://kritika-hdp.hr
X-WR-CALDESC:Događaji za Kritika HDP
REFRESH-INTERVAL;VALUE=DURATION:PT1H
X-Robots-Tag:noindex
X-PUBLISHED-TTL:PT1H
BEGIN:VTIMEZONE
TZID:Europe/Zagreb
BEGIN:DAYLIGHT
TZOFFSETFROM:+0100
TZOFFSETTO:+0200
TZNAME:CEST
DTSTART:20220327T010000
END:DAYLIGHT
BEGIN:STANDARD
TZOFFSETFROM:+0200
TZOFFSETTO:+0100
TZNAME:CET
DTSTART:20221030T010000
END:STANDARD
BEGIN:DAYLIGHT
TZOFFSETFROM:+0100
TZOFFSETTO:+0200
TZNAME:CEST
DTSTART:20230326T010000
END:DAYLIGHT
BEGIN:STANDARD
TZOFFSETFROM:+0200
TZOFFSETTO:+0100
TZNAME:CET
DTSTART:20231029T010000
END:STANDARD
BEGIN:DAYLIGHT
TZOFFSETFROM:+0100
TZOFFSETTO:+0200
TZNAME:CEST
DTSTART:20240331T010000
END:DAYLIGHT
BEGIN:STANDARD
TZOFFSETFROM:+0200
TZOFFSETTO:+0100
TZNAME:CET
DTSTART:20241027T010000
END:STANDARD
END:VTIMEZONE
BEGIN:VEVENT
DTSTART;VALUE=DATE:20230402
DTEND;VALUE=DATE:20230524
DTSTAMP:20260421T090752
CREATED:20230402T082832Z
LAST-MODIFIED:20230402T082942Z
UID:8341-1680393600-1684886399@kritika-hdp.hr
SUMMARY:Međunarodni rezidencijalni program za pisce i prevoditelje u Krakovu
DESCRIPTION:UNESCO-ov grad književnosti Krakov najavio je poziv na prijave za Međunarodni rezidencijalni program za pisce i prevoditelje. \nNamijenjen je svim piscima i pjesnicima koji su objavili barem jednu knjigu te koji trenutno rade na spisateljskom projektu i spremni su naučiti više o poljskoj književnoj zajednici. Ovaj program je savršena prilika za rad na spisateljskim sposobnostima\, u optimalnim uvjetima za kreativan rad i da predstave svoj rad novoj publici. \nRok prijave je 23. travnja\, a rezidencija je u trajanju od dva mjeseca u razdoblju od 1. srpnja do 31. kolovoza (Villa Decius). Mjesečna bruto stipendija je 2500 PLN (oko 530 eura) uz putne troškove.\nOd rezidenata se očekuje da napišu tekst s Krakovom u njemu (6000 do 11 000 znakova s razmacima). \nDokumenti\, odnosno prijavni obrazac\, izvadak objavljenog teksta na engleskom ili poljskom\, biografija\, pismo preporuke (nije obavezno)\, šalju se na sljedeću adresu: residencies@miastoliteratury.pl \nZa moguća pitanja kontakt je: Elżbieta Foltyniak\, elzbieta.foltyniak@kbf.krakow.pl \nPotpuni tekst natječaja kao i uvjeti mogu se naći na sljedećoj poveznici: Rezidencija u Krakovu.
URL:https://kritika-hdp.hr/dogadjaji/medunarodni-rezidencijalni-program-za-pisce-i-prevoditelje-u-krakovu/
ATTACH;FMTTYPE=image/jpeg:https://kritika-hdp.hr/wp-content/uploads/2023/04/1599145392black-white-zigzag-pattern.jpg
END:VEVENT
END:VCALENDAR