BEGIN:VCALENDAR
VERSION:2.0
PRODID:-//Kritika HDP - ECPv6.15.20//NONSGML v1.0//EN
CALSCALE:GREGORIAN
METHOD:PUBLISH
X-WR-CALNAME:Kritika HDP
X-ORIGINAL-URL:https://kritika-hdp.hr
X-WR-CALDESC:Događaji za Kritika HDP
REFRESH-INTERVAL;VALUE=DURATION:PT1H
X-Robots-Tag:noindex
X-PUBLISHED-TTL:PT1H
BEGIN:VTIMEZONE
TZID:Europe/Zagreb
BEGIN:DAYLIGHT
TZOFFSETFROM:+0100
TZOFFSETTO:+0200
TZNAME:CEST
DTSTART:20240331T010000
END:DAYLIGHT
BEGIN:STANDARD
TZOFFSETFROM:+0200
TZOFFSETTO:+0100
TZNAME:CET
DTSTART:20241027T010000
END:STANDARD
BEGIN:DAYLIGHT
TZOFFSETFROM:+0100
TZOFFSETTO:+0200
TZNAME:CEST
DTSTART:20250330T010000
END:DAYLIGHT
BEGIN:STANDARD
TZOFFSETFROM:+0200
TZOFFSETTO:+0100
TZNAME:CET
DTSTART:20251026T010000
END:STANDARD
BEGIN:DAYLIGHT
TZOFFSETFROM:+0100
TZOFFSETTO:+0200
TZNAME:CEST
DTSTART:20260329T010000
END:DAYLIGHT
BEGIN:STANDARD
TZOFFSETFROM:+0200
TZOFFSETTO:+0100
TZNAME:CET
DTSTART:20261025T010000
END:STANDARD
END:VTIMEZONE
BEGIN:VEVENT
DTSTART;VALUE=DATE:20250822
DTEND;VALUE=DATE:20250921
DTSTAMP:20260419T152114
CREATED:20250822T123605Z
LAST-MODIFIED:20250822T123703Z
UID:17284-1755820800-1758412799@kritika-hdp.hr
SUMMARY:Kulturpunktova novinarska školica
DESCRIPTION:Kulturpunktova novinarska školica besplatni je\, jednosemestralni neformalni edukacijski program namijenjen mladima zainteresiranim za polje suvremenih kulturnih i umjetničkih praksi te usvajanje temeljnih vještina novinarskog i spisateljskog zanata. \nUdruga Kurziv od 2009. godine provodi ovaj interdisciplinarni edukacijski program koji integrira znanja\, teorije i vještine potrebne za buduće djelovanje u sektoru kulture i medija. U dosadašnjih petnaest ciklusa obrazovano je preko 200 polaznika od kojih je čak 80% prilikom samoprocjene o utjecaju Školice na njihove daljnje profesionalne interese i odabire potvrdilo izniman utjecaj programa. \nNovi ciklus Kulturpunktove novinarske školice počinje 1. listopada 2025. \nPredavački i praktični dio programa traje do 22. prosinca 2025. godine\, a tijekom siječnja 2026. polaznice izrađuju završne radove uz mentorsku podršku. Program se održava ponedjeljkom i srijedom od 18 sati u prostorima nezavisne kulture u centru Zagreba\, a detaljan raspored i program polaznice će dobiti pri prvom susretu. \nKulturpunktova novinarska školica sastoji se od četiri cjeline: nezavisna kulturna scena (kulturne politike te prakse i modeli razvijani u polju)\, medijska pismenost (kritičko čitanje medija i transformacije medija)\, suvremena umjetnost (angažirane\, eksperimentalne i kritičke umjetničke i kustoske prakse) te proizvodnja medijskog sadržaja (praktičan novinarski rad i objavljivanje radova). \n  \nPraktikume vode istaknute kulturne radnice Barbara Matejčić (novinarstvo i autorski rad)\, Višnja Pentić (film)\, Tihana Bertek (vizualne umjetnosti)\, Antonio Pošćić (glazba) te Igor Ružić (izvedbene umjetnosti)\, uz dugogodišnje voditeljice programa Ivanu Pejić (mediji) i Matiju Mrakovčić (kulturne politike) te urednički i mentorski tim portala Kulturpunkt.hr. \n  \nPrijave za program šalju se putem online obrasca do 20. rujna 2025. u 24 sata. Prijava za edukacijski program sadrži kontakt podatke\, kratki životopis\, motivacijsko pismo te kratki autorski osvrt na temu iz područja kulture i/ili medija. Autorski osvrt služi procjeni inicijalne pismenosti i interesa kandidata\, te se neće procjenjivati žanr\, fokus ili prethodno objavljivanje teksta. \n  \nNa adresu novinarska.skolica@gmail.com možete poslati sve upite vezane uz prijavu i program. \n  \nSvi prijavljeni će o rezultatima selekcije biti obaviješteni putem maila najkasnije do 24. rujna 2025. \n  \nEdukacijski program provodi udruga Kurziv – Platforma za pitanja kulture\, medija i društva\, uz potporu Grada Zagreba i Zaklade Kultura nova. \n  \nOd 2022. godine Školica nosi oznaku sustava SKOCKANO – Standard Kvalitete Organizacija Civilnog društva Konstruktivno Angažiranih u Neformalnom Obrazovanju.
URL:https://kritika-hdp.hr/dogadjaji/kulturpunktova-novinarska-skolica/
ATTACH;FMTTYPE=image/jpeg:https://kritika-hdp.hr/wp-content/uploads/2025/08/KPNS25.jpg
END:VEVENT
END:VCALENDAR