BEGIN:VCALENDAR
VERSION:2.0
PRODID:-//Kritika HDP - ECPv6.15.20//NONSGML v1.0//EN
CALSCALE:GREGORIAN
METHOD:PUBLISH
X-WR-CALNAME:Kritika HDP
X-ORIGINAL-URL:https://kritika-hdp.hr
X-WR-CALDESC:Događaji za Kritika HDP
REFRESH-INTERVAL;VALUE=DURATION:PT1H
X-Robots-Tag:noindex
X-PUBLISHED-TTL:PT1H
BEGIN:VTIMEZONE
TZID:Europe/Zagreb
BEGIN:DAYLIGHT
TZOFFSETFROM:+0100
TZOFFSETTO:+0200
TZNAME:CEST
DTSTART:20200329T010000
END:DAYLIGHT
BEGIN:STANDARD
TZOFFSETFROM:+0200
TZOFFSETTO:+0100
TZNAME:CET
DTSTART:20201025T010000
END:STANDARD
BEGIN:DAYLIGHT
TZOFFSETFROM:+0100
TZOFFSETTO:+0200
TZNAME:CEST
DTSTART:20210328T010000
END:DAYLIGHT
BEGIN:STANDARD
TZOFFSETFROM:+0200
TZOFFSETTO:+0100
TZNAME:CET
DTSTART:20211031T010000
END:STANDARD
BEGIN:DAYLIGHT
TZOFFSETFROM:+0100
TZOFFSETTO:+0200
TZNAME:CEST
DTSTART:20220327T010000
END:DAYLIGHT
BEGIN:STANDARD
TZOFFSETFROM:+0200
TZOFFSETTO:+0100
TZNAME:CET
DTSTART:20221030T010000
END:STANDARD
END:VTIMEZONE
BEGIN:VEVENT
DTSTART;TZID=Europe/Zagreb:20210426T200000
DTEND;TZID=Europe/Zagreb:20210426T210000
DTSTAMP:20260420T160340
CREATED:20210421T090820Z
LAST-MODIFIED:20220725T075523Z
UID:1269-1619467200-1619470800@kritika-hdp.hr
SUMMARY:Koga čitamo? Prijevodna kritika i kako je steći
DESCRIPTION:Kad ih pisci i spisateljice dovrše\, književna djela započinju svoj život. U tome životu nakon prvog pisanja\, književni kritičari i književni prevoditelji imaju sličnu ulogu: i jedni i drugi proširuju izvornik i osiguravaju mu daljnje živote. \nU tim zajedničkim interesima i nastojanjima\, prijevodna kritika može odigrati veliku ulogu. U nizu razgovora s književnim prevoditeljima i prevoditeljicama te kritičarima i kritičarkama istražit ćemo: \nJe li prijevodna kritika isto što i kritika prijevoda?\nMora li dobar prijevod biti nevidljiv?\nKako bi mogla izgledati književna kritika koja uzima prevedenost djela u obzir? \nGošće trećeg susreta tribina “Koga čitamo?” bit će Lara Hölbling Matković i Nataša Govedić\, a razgovor će moderirati Anda Bukvić Pažin. \nRazgovor će se održati 26. travnja u 20 sati u Frakturinoj knjižari\, Kneza Mislava 17\, uz provođenje i pridržavanje svih propisanih epidemioloških mjera\, a broj posjetitelja bit će ograničen na 12\, stoga vas molimo da se što prije prijavite na promocije@fraktura.hr\nRazgovor ćete moći pratiti uživo i na YouTube kanalu Fraktura Najbolja Literatura i na FB profilu Fraktura – najbolja literatura.\nRazgovori “Koga čitamo?” održavaju se u sklopu projekta Društva hrvatskih književnih prevodilaca “Književno prevođenje pod lupom”\, a u suradnji s Frakturom\, Hrvatskim društvom pisaca te uz financijsku potporu Ministarstva kulture i medija Republike Hrvatske.
URL:https://kritika-hdp.hr/dogadjaji/koga-citamo-prijevodna-kritika-i-kako-je-steci-0/
END:VEVENT
END:VCALENDAR