BEGIN:VCALENDAR
VERSION:2.0
PRODID:-//Kritika HDP - ECPv6.15.20//NONSGML v1.0//EN
CALSCALE:GREGORIAN
METHOD:PUBLISH
X-WR-CALNAME:Kritika HDP
X-ORIGINAL-URL:https://kritika-hdp.hr
X-WR-CALDESC:Događaji za Kritika HDP
REFRESH-INTERVAL;VALUE=DURATION:PT1H
X-Robots-Tag:noindex
X-PUBLISHED-TTL:PT1H
BEGIN:VTIMEZONE
TZID:Europe/Zagreb
BEGIN:DAYLIGHT
TZOFFSETFROM:+0100
TZOFFSETTO:+0200
TZNAME:CEST
DTSTART:20220327T010000
END:DAYLIGHT
BEGIN:STANDARD
TZOFFSETFROM:+0200
TZOFFSETTO:+0100
TZNAME:CET
DTSTART:20221030T010000
END:STANDARD
BEGIN:DAYLIGHT
TZOFFSETFROM:+0100
TZOFFSETTO:+0200
TZNAME:CEST
DTSTART:20230326T010000
END:DAYLIGHT
BEGIN:STANDARD
TZOFFSETFROM:+0200
TZOFFSETTO:+0100
TZNAME:CET
DTSTART:20231029T010000
END:STANDARD
BEGIN:DAYLIGHT
TZOFFSETFROM:+0100
TZOFFSETTO:+0200
TZNAME:CEST
DTSTART:20240331T010000
END:DAYLIGHT
BEGIN:STANDARD
TZOFFSETFROM:+0200
TZOFFSETTO:+0100
TZNAME:CET
DTSTART:20241027T010000
END:STANDARD
END:VTIMEZONE
BEGIN:VEVENT
DTSTART;TZID=Europe/Zagreb:20230525T100000
DTEND;TZID=Europe/Zagreb:20230528T010000
DTSTAMP:20260420T235624
CREATED:20230514T152328Z
LAST-MODIFIED:20230514T152400Z
UID:8812-1685008800-1685235600@kritika-hdp.hr
SUMMARY:Književni festival LITaf u Zadru
DESCRIPTION:U Svečanoj dvorani Sveučilišta u Zadru 25. svibnja (četvrtak)\, u 15:00 sati otvara se Književni festival LITaf\, koji okuplja regionalne i nacionalne književnike\, prozaiste i pjesnike te prevoditelje. Prvo izdanje festivala održat će se u Zadru\, u trajanju od 25. do 27. svibnja. \n \n 
URL:https://kritika-hdp.hr/dogadjaji/knjizevni-festival-litaf-u-zadru/
ATTACH;FMTTYPE=image/jpeg:https://kritika-hdp.hr/wp-content/uploads/2023/05/336903840_205563018862641_3007514689615773189_n.jpg
END:VEVENT
END:VCALENDAR