BEGIN:VCALENDAR
VERSION:2.0
PRODID:-//Kritika HDP - ECPv6.15.20//NONSGML v1.0//EN
CALSCALE:GREGORIAN
METHOD:PUBLISH
X-WR-CALNAME:Kritika HDP
X-ORIGINAL-URL:https://kritika-hdp.hr
X-WR-CALDESC:Događaji za Kritika HDP
REFRESH-INTERVAL;VALUE=DURATION:PT1H
X-Robots-Tag:noindex
X-PUBLISHED-TTL:PT1H
BEGIN:VTIMEZONE
TZID:Europe/Zagreb
BEGIN:DAYLIGHT
TZOFFSETFROM:+0100
TZOFFSETTO:+0200
TZNAME:CEST
DTSTART:20240331T010000
END:DAYLIGHT
BEGIN:STANDARD
TZOFFSETFROM:+0200
TZOFFSETTO:+0100
TZNAME:CET
DTSTART:20241027T010000
END:STANDARD
BEGIN:DAYLIGHT
TZOFFSETFROM:+0100
TZOFFSETTO:+0200
TZNAME:CEST
DTSTART:20250330T010000
END:DAYLIGHT
BEGIN:STANDARD
TZOFFSETFROM:+0200
TZOFFSETTO:+0100
TZNAME:CET
DTSTART:20251026T010000
END:STANDARD
BEGIN:DAYLIGHT
TZOFFSETFROM:+0100
TZOFFSETTO:+0200
TZNAME:CEST
DTSTART:20260329T010000
END:DAYLIGHT
BEGIN:STANDARD
TZOFFSETFROM:+0200
TZOFFSETTO:+0100
TZNAME:CET
DTSTART:20261025T010000
END:STANDARD
END:VTIMEZONE
BEGIN:VEVENT
DTSTART;VALUE=DATE:20250409
DTEND;VALUE=DATE:20250413
DTSTAMP:20260419T190206
CREATED:20250407T205842Z
LAST-MODIFIED:20250407T205943Z
UID:15852-1744156800-1744502399@kritika-hdp.hr
SUMMARY:KaLibar bestival u Pazinu\, 9. - 12. travnja 2025.
DESCRIPTION:Književni festival KaLibar\, koji se od 2013. godine kontinuirano održava s ciljem promocije književnog stvaralaštva i kulture čitanja\, ove godine donosi svoje deveto izdanje ponovno u Pazin. Nakon uspješnih godina u Zadru i Varaždinu\, Pazin je postao novo uporište festivala\, čiji će program i ove godine obogatiti kulturni život grada. \nTijekom četiri dana\, Kaštel Pazin postat će mjesto susreta književnika\, umjetnika i publike kroz raznovrstan program koji uključuje književne promocije\, radionice\, izložbu\, kviz i koncert. \nUlaz na sve programe je slobodan\, osim završnog koncerta. \n\nProgram festivala:\nSrijeda\, 9. travnja 2025.19:00 – Pub kviz \nČetvrtak\, 10. travnja 2025.16:30 – Radionica stripa | Vodi: Enver Krivac18:00 – Otvorenje izložbe | Autor: Matija Rubinić18:10 – Predstavljanje zbornika Mit\, vjerovanje i prostorUrednici: Marijana Belaj\, Tibor Komar\, Suzana Marjanić i Ivana Radovani Podrug | Moderira: Ivona Orlić19:00 – Igor Duda: Socijalizam na kućnom pragu | Moderira: Mladen Blažević20:00 – Snježana Matejčić: Kad sam pročitala plavu bilježnicu | Moderira: Zoran Žmirić \nPetak\, 11. travnja 2025.16:30 – Radionica stripa | Vodi: Enver Krivac18:00 – Roberta Nikšić: Čovjek je šuma (pobjednica natječaja Post scriptum) | Moderira: Kruno Lokotar19:00 – Ena Katarina Haler: Nevini | Moderira: Jana Prević Finderle20:00 – Ivica Đikić: Divlji kvas | Moderira: Enver Krivac \nSubota\, 12. travnja 2025.16:30 – Radionica stripa | Vodi: Enver Krivac18:00 – Toni Juričić: Pijani sveci zavijaju na mjesec | Moderira: Andrija Škare19:00 – Drago Glamuzina: Noćni portir | Moderira: Kruno Lokotar21:00 – Završni koncert: Darko Rundek & Ana Kovačić (ulaz uz naplatu) \n\nLokacija: Kaštel PazinUlaz: Slobodan na sve programe osim završnog koncertaOrganizator: Festival KaLibar \nViše informacija o festivalu uskoro na službenim stranicama i društvenim mrežama.
URL:https://kritika-hdp.hr/dogadjaji/kalibar-bestival-u-pazinu-9-12-travnja-2025/
ATTACH;FMTTYPE=image/jpeg:https://kritika-hdp.hr/wp-content/uploads/2025/04/kalibar.jpg
END:VEVENT
END:VCALENDAR