BEGIN:VCALENDAR
VERSION:2.0
PRODID:-//Kritika HDP - ECPv6.15.20//NONSGML v1.0//EN
CALSCALE:GREGORIAN
METHOD:PUBLISH
X-WR-CALNAME:Kritika HDP
X-ORIGINAL-URL:https://kritika-hdp.hr
X-WR-CALDESC:Događaji za Kritika HDP
REFRESH-INTERVAL;VALUE=DURATION:PT1H
X-Robots-Tag:noindex
X-PUBLISHED-TTL:PT1H
BEGIN:VTIMEZONE
TZID:Europe/Zagreb
BEGIN:DAYLIGHT
TZOFFSETFROM:+0100
TZOFFSETTO:+0200
TZNAME:CEST
DTSTART:20240331T010000
END:DAYLIGHT
BEGIN:STANDARD
TZOFFSETFROM:+0200
TZOFFSETTO:+0100
TZNAME:CET
DTSTART:20241027T010000
END:STANDARD
BEGIN:DAYLIGHT
TZOFFSETFROM:+0100
TZOFFSETTO:+0200
TZNAME:CEST
DTSTART:20250330T010000
END:DAYLIGHT
BEGIN:STANDARD
TZOFFSETFROM:+0200
TZOFFSETTO:+0100
TZNAME:CET
DTSTART:20251026T010000
END:STANDARD
BEGIN:DAYLIGHT
TZOFFSETFROM:+0100
TZOFFSETTO:+0200
TZNAME:CEST
DTSTART:20260329T010000
END:DAYLIGHT
BEGIN:STANDARD
TZOFFSETFROM:+0200
TZOFFSETTO:+0100
TZNAME:CET
DTSTART:20261025T010000
END:STANDARD
END:VTIMEZONE
BEGIN:VEVENT
DTSTART;VALUE=DATE:20250627
DTEND;VALUE=DATE:20250910
DTSTAMP:20260422T174724
CREATED:20250627T124546Z
LAST-MODIFIED:20250627T125232Z
UID:16853-1750982400-1757462399@kritika-hdp.hr
SUMMARY:Javni poziv za dodjelu potpora za poticanje književnoga stvaralaštva u 2026. godini
DESCRIPTION:Potpore su namijenjene autorima za pisanje novih književno-umjetničkih djela (proza\, poezija\, eseji\, strip\, djela za djecu i mlade) te za književne prijevode s izvornog jezika. Objavljivanje knjiga nije predmet potpore. \nDodjeljuju se godišnje (18.000 €)\, polugodišnje (9.000 €) i tromjesečne (4.500 €) potpore\, isplaćene u mjesečnim obrocima od 1.500 €. \nTko se može prijaviti:\nFizičke osobe\, državljani RH. Autori se ne mogu ponovno prijaviti dok knjiga iz prethodne potpore nije objavljena i dostavljena Ministarstvu. \nNe mogu se prijaviti oni čiji je rukopis već objavljen ili završen\, ako je izdavač već tražio potporu za isto djelo\, ili ako su prethodnu potporu koristili za rukopis koji još nije objavljen. \nPrijava ide isključivo putem ePrijavnice. Potrebni su: sinopsis i ogledni arak (bez imena autora)\, biobibliografija i dvije potpisane recenzije (kritičar/teoretičar + urednik/izdavač). \nPrvo se ocjenjuje kvaliteta sinopsisa i arka anonimno. U užem krugu vrednuju se iskustvo autora i recenzije. Odluku donosi ministrica na prijedlog povjerenstva. \n  \nRok i kontakt\nRok za prijavu: 9. rujna 2025. do 17 h. Pitanja slati isključivo na: knjizevno.stvaralastvo@min-kulture.hr.
URL:https://kritika-hdp.hr/dogadjaji/javni-poziv-za-dodjelu-potpora-za-poticanje-knjizevnoga-stvaralastva-u-2026-godini/
ATTACH;FMTTYPE=image/jpeg:https://kritika-hdp.hr/wp-content/uploads/2023/05/MKM-logo.jpg
END:VEVENT
END:VCALENDAR