BEGIN:VCALENDAR
VERSION:2.0
PRODID:-//Kritika HDP - ECPv6.15.20//NONSGML v1.0//EN
CALSCALE:GREGORIAN
METHOD:PUBLISH
X-WR-CALNAME:Kritika HDP
X-ORIGINAL-URL:https://kritika-hdp.hr
X-WR-CALDESC:Događaji za Kritika HDP
REFRESH-INTERVAL;VALUE=DURATION:PT1H
X-Robots-Tag:noindex
X-PUBLISHED-TTL:PT1H
BEGIN:VTIMEZONE
TZID:Europe/Zagreb
BEGIN:DAYLIGHT
TZOFFSETFROM:+0100
TZOFFSETTO:+0200
TZNAME:CEST
DTSTART:20220327T010000
END:DAYLIGHT
BEGIN:STANDARD
TZOFFSETFROM:+0200
TZOFFSETTO:+0100
TZNAME:CET
DTSTART:20221030T010000
END:STANDARD
BEGIN:DAYLIGHT
TZOFFSETFROM:+0100
TZOFFSETTO:+0200
TZNAME:CEST
DTSTART:20230326T010000
END:DAYLIGHT
BEGIN:STANDARD
TZOFFSETFROM:+0200
TZOFFSETTO:+0100
TZNAME:CET
DTSTART:20231029T010000
END:STANDARD
BEGIN:DAYLIGHT
TZOFFSETFROM:+0100
TZOFFSETTO:+0200
TZNAME:CEST
DTSTART:20240331T010000
END:DAYLIGHT
BEGIN:STANDARD
TZOFFSETFROM:+0200
TZOFFSETTO:+0100
TZNAME:CET
DTSTART:20241027T010000
END:STANDARD
END:VTIMEZONE
BEGIN:VEVENT
DTSTART;TZID=Europe/Zagreb:20231103T090000
DTEND;TZID=Europe/Zagreb:20231218T180000
DTSTAMP:20260420T172105
CREATED:20231119T154600Z
LAST-MODIFIED:20231119T154653Z
UID:10255-1699002000-1702922400@kritika-hdp.hr
SUMMARY:Javni poziv za dodjelu Nagrade za dramsko djelo „Marin Držić“ za 2023. godinu
DESCRIPTION:Ministarstvo kulture i medija Republike Hrvatske na temelju članka 4. i članka 7. Zakon o kulturnim vijećima i financiranju javnih potreba u kulturi („Narodne novine“ broj 83/22)\, a u svrhu poticanja i promicanja hrvatskoga dramskog i kazališnog stvaralaštva\, objavljuje\n\nJavni poziv\nza dodjelu Nagrade za dramsko djelo „Marin Držić“ za 2023. godinu\n\nI.\nNa ovaj Javni poziv mogu se prijaviti autori s novim dramskim djelima pisanima hrvatskim jezikom koja do objave odluke Stručnoga povjerenstva\, nisu izvedena ni objavljena u bilo kojem obliku. Svaki autor može prijaviti jedno djelo neovisno o vrsti i tematici djela.\nII.\nDramska djela prijavljuju se pod ŠIFROM\, koja treba biti čitko napisana na prvoj stranici djela kao i na priloženoj zatvorenoj kuverti u kojoj se dostavljaju podaci o autoru: ime i prezime\, adresa\, broj telefona\, adresa e-pošte i OIB. Kuverte će biti otvorene javno nakon konačne odluke Stručnoga povjerenstva\, u prisutnosti članova Stručnog povjerenstva i predstavnika Ministarstva kulture i medija. Nepotpune prijave i one koje nisu u skladu s propozicijama Javnoga poziva neće se razmatrati. \nIII.\nPrijavljena dramska djela ocjenjuje Stručno povjerenstvo koje imenuje ministrica kulture i medija. Dodjeljuju se prva\, druga i treća nagrada. \nIV.\nNagrada se sastoji od novčanog iznosa koji određuje ministrica kulture i medija te prigodne brončane skulpture. \nV.\nZa praizvedbu djela nagrađenih na temelju ovoga Poziva kazališta će biti posebno stimulirana. \nVI.\nPrijavom na Poziv smatra se da je autor dramskoga djela suglasan da se sva imovinska autorska prava za prvo izdanje nagrađenoga dramskog djela prenose bez naknade na Ministarstvo kulture i medija\, koje će nagrađena dramska djela izdati u okviru edicije „Nagrada Marin Držić“. \nVII.\nTekstovi za koje se raspisuje Poziv dostavljaju se u tri primjerka Ministarstvu kulture i medija\, Zagreb\, Runjaninova 2\, s napomenom: Za Nagradu „Marin Držić“. \nVIII.\nNenagrađena dramska djela vraćaju se autorima na njihov zahtjev u roku od 30 dana od pisane obavijesti o završetku postupka Poziva. Jedan primjerak svakoga djela Ministarstvo zadržava u svojoj dokumentaciji. \nIX.\nPrijave na temelju ovoga Poziva podnose se u roku od 45 dana od dana objave u „Narodnim novinama“. Rezultati će biti objavljeni na mrežnoj stranici Ministarstva kulture i medija Republike Hrvatske.
URL:https://kritika-hdp.hr/dogadjaji/javni-poziv-za-dodjelu-nagrade-za-dramsko-djelo-marin-drzic-za-2023-godinu/
ATTACH;FMTTYPE=image/jpeg:https://kritika-hdp.hr/wp-content/uploads/2023/05/MKM-logo.jpg
END:VEVENT
END:VCALENDAR