BEGIN:VCALENDAR
VERSION:2.0
PRODID:-//Kritika HDP - ECPv6.15.20//NONSGML v1.0//EN
CALSCALE:GREGORIAN
METHOD:PUBLISH
X-WR-CALNAME:Kritika HDP
X-ORIGINAL-URL:https://kritika-hdp.hr
X-WR-CALDESC:Događaji za Kritika HDP
REFRESH-INTERVAL;VALUE=DURATION:PT1H
X-Robots-Tag:noindex
X-PUBLISHED-TTL:PT1H
BEGIN:VTIMEZONE
TZID:Europe/Zagreb
BEGIN:DAYLIGHT
TZOFFSETFROM:+0100
TZOFFSETTO:+0200
TZNAME:CEST
DTSTART:20220327T010000
END:DAYLIGHT
BEGIN:STANDARD
TZOFFSETFROM:+0200
TZOFFSETTO:+0100
TZNAME:CET
DTSTART:20221030T010000
END:STANDARD
BEGIN:DAYLIGHT
TZOFFSETFROM:+0100
TZOFFSETTO:+0200
TZNAME:CEST
DTSTART:20230326T010000
END:DAYLIGHT
BEGIN:STANDARD
TZOFFSETFROM:+0200
TZOFFSETTO:+0100
TZNAME:CET
DTSTART:20231029T010000
END:STANDARD
BEGIN:DAYLIGHT
TZOFFSETFROM:+0100
TZOFFSETTO:+0200
TZNAME:CEST
DTSTART:20240331T010000
END:DAYLIGHT
BEGIN:STANDARD
TZOFFSETFROM:+0200
TZOFFSETTO:+0100
TZNAME:CET
DTSTART:20241027T010000
END:STANDARD
END:VTIMEZONE
BEGIN:VEVENT
DTSTART;TZID=Europe/Zagreb:20231107T090000
DTEND;TZID=Europe/Zagreb:20231113T000000
DTSTAMP:20260420T184707
CREATED:20231101T160928Z
LAST-MODIFIED:20231101T161006Z
UID:10125-1699347600-1699833600@kritika-hdp.hr
SUMMARY:Interliber 2023.
DESCRIPTION:Interliber\, mežunarodni sajam knjige održava se i ove godine u prostorima Zagrebačkog Velesajma\, a kao i obično\, donosi pregršt gostovanja autora\, između ostaloga i poznatog pisca Vikasa Swarupa\, autora po čijem je romanu (Q and A) napravljen i film Milijunaš s ulice (Slumdog Millionaire). \nViše o bogatom programu možete naći na sljedećoj poveznici.
URL:https://kritika-hdp.hr/dogadjaji/interliber-2023/
LOCATION:Zagrebački Velesajam\, Avenija Dubrovnik 15\, Zagreb\, Hrvatska\, 10000\, Croatia (Local Name: Hrvatska)
ATTACH;FMTTYPE=image/png:https://kritika-hdp.hr/wp-content/uploads/2023/11/Untitled.png
END:VEVENT
END:VCALENDAR