BEGIN:VCALENDAR
VERSION:2.0
PRODID:-//Kritika HDP - ECPv6.15.20//NONSGML v1.0//EN
CALSCALE:GREGORIAN
METHOD:PUBLISH
X-WR-CALNAME:Kritika HDP
X-ORIGINAL-URL:https://kritika-hdp.hr
X-WR-CALDESC:Događaji za Kritika HDP
REFRESH-INTERVAL;VALUE=DURATION:PT1H
X-Robots-Tag:noindex
X-PUBLISHED-TTL:PT1H
BEGIN:VTIMEZONE
TZID:Europe/Zagreb
BEGIN:DAYLIGHT
TZOFFSETFROM:+0100
TZOFFSETTO:+0200
TZNAME:CEST
DTSTART:20240331T010000
END:DAYLIGHT
BEGIN:STANDARD
TZOFFSETFROM:+0200
TZOFFSETTO:+0100
TZNAME:CET
DTSTART:20241027T010000
END:STANDARD
BEGIN:DAYLIGHT
TZOFFSETFROM:+0100
TZOFFSETTO:+0200
TZNAME:CEST
DTSTART:20250330T010000
END:DAYLIGHT
BEGIN:STANDARD
TZOFFSETFROM:+0200
TZOFFSETTO:+0100
TZNAME:CET
DTSTART:20251026T010000
END:STANDARD
BEGIN:DAYLIGHT
TZOFFSETFROM:+0100
TZOFFSETTO:+0200
TZNAME:CEST
DTSTART:20260329T010000
END:DAYLIGHT
BEGIN:STANDARD
TZOFFSETFROM:+0200
TZOFFSETTO:+0100
TZNAME:CET
DTSTART:20261025T010000
END:STANDARD
END:VTIMEZONE
BEGIN:VEVENT
DTSTART;VALUE=DATE:20250830
DTEND;VALUE=DATE:20250906
DTSTAMP:20260422T041137
CREATED:20250811T094052Z
LAST-MODIFIED:20250811T100054Z
UID:17213-1756512000-1757116799@kritika-hdp.hr
SUMMARY:Festival svjetske književnosti\, Zagreb\, 31. 8. – 4. 9. 2025.
DESCRIPTION:Od 31. kolovoza do 5. rujna u grad stiže više od 70 autorica i autora\, prevoditelja\, kritičara i urednika iz čak 19 europskih zemalja. Na više od 30 programa razgovarat će se o knjigama\, ali i o stvarima koje ih pokreću: strahovima\, radostima\, čežnjama\, boli i nadi. \nFestival svjetske književnosti ove godine donosi i niz novosti. Jutarnji programi održavat će se besplatno u Knjižari Fraktura\, dok će se glavni dio događanja odvijati u zagrebačkom HNK-u\, od ponedjeljka do četvrtka\, na tri pozornice: glavnoj\, u foajeu i tonskoj dvorani\, svakodnevno od 17 sati pa do kasno navečer. \nSvečano otvaranje bit će u nedjelju\, 31. kolovoza\, na velikoj pozornici HNK-a\, a gošća večeri bit će škotsko-bugarska književnica Kapka Kassabova\, višestruko nagrađivana autorica čija je djela domaća publika već imala prilike upoznati. Ovaj put dolazi s knjigom Anima\, koju je prevela Patricija Horvat\, a u kojoj autorica propituje vezu ljudi i životinja u balkanskim krajolicima. \nMeđu gostima su i neka od najvažnijih imena današnje svjetske književnosti. Stiže španjolski pisac Fernando Aramburu\, poznat po romanima Patria i Čiope\, čije su knjige prevedene na više od 30 jezika\, a prema Patriji je snimljena i iznimno uspješna TV serija. U Zagrebu će prvi put predstaviti svoj najnoviji roman Dječak\, u prijevodu Željke Somun. \nDolazi i Leïla Slimani\, jedno od najistaknutijih imena francuske književnosti\, dobitnica Goncourtove nagrade i ambasadorica frankofonije. Hrvatska publika poznaje je po romanima Uspavanka i U zemlji drugih\, a sad donosi završni dio trilogije pod naslovom Ponijet ću vatru. \nSofi Oksanen\, finska autorica čija su djela prevedena na više od 40 jezika\, gostuje uz razgovor o ratnim zločinima nad ženama\, u kojem će joj se pridružiti Slavenka Drakulić i novinarka Barbara Matejčić. \nPublika će imati priliku susresti i švicarsku spisateljicu Zoru del Buono\, poznatu po romanu Maršalica\, te makedonsku autoricu Rumenu Bužarovsku\, čije su zbirke priča postale kazališni hitovi\, a sada predstavlja i svoj prvi roman Toni. \nJedan od najiščekivanijih gostiju je bosanskohercegovački glumac Feđa Štukan\, koji će govoriti o svom autobiografskom romanu Blank: brutalno iskrenoj priči o životu\, ratu\, ovisnosti i osobnom iskupljenju. S njim će razgovarati pjesnikinja Monika Herceg. \nFestival ne završava na riječima\, u Galeriji Kranjčar istovremeno će se moći pogledati i izložba portreta svjetskih pisaca\, koje je snimio fotograf Ante Magzan\, u kustoskom izboru Leile Topić. \nUlaznice su u pretprodaji do 30. kolovoza po cijeni od 9\,99 €\, a tijekom festivala 11\,99 €\, dostupne online ili na blagajni HNK-a. Detalje programa možete pratiti na www.fsk.hr \n 
URL:https://kritika-hdp.hr/dogadjaji/festival-svjetske-knjizevnosti-zagreb-31-8-4-9-2025/
ATTACH;FMTTYPE=image/jpeg:https://kritika-hdp.hr/wp-content/uploads/2025/08/Bez-naslova-1.jpg
END:VEVENT
END:VCALENDAR