BEGIN:VCALENDAR
VERSION:2.0
PRODID:-//Kritika HDP - ECPv6.15.20//NONSGML v1.0//EN
CALSCALE:GREGORIAN
METHOD:PUBLISH
X-WR-CALNAME:Kritika HDP
X-ORIGINAL-URL:https://kritika-hdp.hr
X-WR-CALDESC:Događaji za Kritika HDP
REFRESH-INTERVAL;VALUE=DURATION:PT1H
X-Robots-Tag:noindex
X-PUBLISHED-TTL:PT1H
BEGIN:VTIMEZONE
TZID:Europe/Zagreb
BEGIN:DAYLIGHT
TZOFFSETFROM:+0100
TZOFFSETTO:+0200
TZNAME:CEST
DTSTART:20230326T010000
END:DAYLIGHT
BEGIN:STANDARD
TZOFFSETFROM:+0200
TZOFFSETTO:+0100
TZNAME:CET
DTSTART:20231029T010000
END:STANDARD
BEGIN:DAYLIGHT
TZOFFSETFROM:+0100
TZOFFSETTO:+0200
TZNAME:CEST
DTSTART:20240331T010000
END:DAYLIGHT
BEGIN:STANDARD
TZOFFSETFROM:+0200
TZOFFSETTO:+0100
TZNAME:CET
DTSTART:20241027T010000
END:STANDARD
BEGIN:DAYLIGHT
TZOFFSETFROM:+0100
TZOFFSETTO:+0200
TZNAME:CEST
DTSTART:20250330T010000
END:DAYLIGHT
BEGIN:STANDARD
TZOFFSETFROM:+0200
TZOFFSETTO:+0100
TZNAME:CET
DTSTART:20251026T010000
END:STANDARD
END:VTIMEZONE
BEGIN:VEVENT
DTSTART;TZID=Europe/Zagreb:20240831T100000
DTEND;TZID=Europe/Zagreb:20240908T190000
DTSTAMP:20260419T222816
CREATED:20240714T201634Z
LAST-MODIFIED:20240714T201634Z
UID:12233-1725098400-1725822000@kritika-hdp.hr
SUMMARY:Festival svjetske književnosti 2024.
DESCRIPTION:Od 1. do 7. rujna u Zagrebačkom kazalištu mladih\, Knjižari Fraktura i Galeriji Forum odvija se dvanaesti Festival svjetske književnosti. \nFestival otvara suvremeni talijanski pisac Paolo Giordano\, nastupat će i Yomi Adegoke\, britanska novinarka i spisateljica uvrštena na Forbesov popis 30 najutjecajnijih osoba mlađih od 30 godina\, čiji provokativan roman Lista\, u prijevodu Krešimira Sučevića Međerala\, propituje šokantan utjecaj društvenih mreža i moć optužbe. \nDomaća novinarka i spisateljica Slavenka Drakulić predstavit će novu knjigu O čemu ne govorimo\, moćnu zbirku priča o djetinjstvu\, bolesti\, ljubavi i smrti. Uz tribinu s Robertom Seethalerom\, austrijskim glumcem\, scenaristom i hit-autorom koji je romanom Čitav jedan život\, u prijevodu Željke Gorički\, osigurao finale Međunarodne nagrade Man Booker i Međunarodne nagrade IMPAC Dublin\, gostovat će i Johanne Mo\, švedska autorica čija je trilogija Ubojstva na otoku\, u kojoj se napetost može rezati nožem\, a koju je prevela Elizabeta Vrbančić\, u Švedskoj postala detektivski serijal broj jedan. \nNa Festival svjetske književnosti dolaze i Jean-Baptiste Del Amo\, francuski suvremeni klasik koji je zaludio svijet romanom Carstvo životinja\, u prijevodu Željke Somun\, i švedski pisac Jens Liljestrand. \nGostuje i europska senzacija The Wrong Language Tour – šest autorica i autora s Kosova\, iz Srbije i Švicarske. Ariane von Graffenried\, Blerina Gaxha Rogova\, Maša Seničić\, Adelina Tërshani\, Dario Hajrić i Gerhard Meister\, u pratnji benda\, pokazat će svu snagu žive riječi. \nNa dvanaestom izdanju Festivala gostuju i Elia Barceló\, Teolinda Gersão\, Nadia Ghulam\, Monika Helfer\, Lucía Lijtmaer\, Agnieszka Szpila\, Sebastià Alzamora\, Vincenzo Latronico\, Reinhard Kaiser-Mühlecker\, Ariel Magnus\, te s domaće književne scene Ana Badurina\, Snježana Banović\, Anda Bukvić Pažin\, Nadežda Čačinovič\, Lidija Deduš\, Ena Katarina Haler\, Katica Ivanković\, Slobodana Matić Kovač\, Dijana Matković\, Tatjana Peruško\, Olja Savičević Ivančević\, Marina Vujčić\, Vlaho Bogišić\, Ivica Đikić\, Marko Gregur\, Andy Jelčić\, Namik Kabil\, Damir Karakaš\, Luka Ostojić\, Jurica Pavičić\, Želimir Periš\, Edo Popović\, Sven Popović\, Dušan Šarotar\, Faruk Šehić\, Vojo Šindolić\, Andrija Škare\, Dean Šoša\, Zdravko Zima i drugi. \nUlaznice za dvanaesti Festival svjetske književnosti bit će dostupne po cijeni od 6\,99 eura na internetskoj stranici CoreEvent\, u Knjižari Fraktura (Ulica kneza Mislava 17\, Zagreb) od 1. kolovoza do 7. rujna i na Frakturinoj blagajni u Zagrebačkom kazalištu mladih (Ulica Nikole Tesle 7\, Zagreb) od 1. do 7. rujna od 17 do 21 sat. Prilikom kupnje ostvaruješ jedinstveni popust od 3 eura na sve književne naslove u Knjižari Fraktura i Zagrebačkom kazalištu mladih tijekom trajanja Festivala. Popusti koje ostvariš kupnjom ulaznica ne mogu se zbrajati. \n  \nVizualni autor festivala: Ivan Stanišić.
URL:https://kritika-hdp.hr/dogadjaji/festival-svjetske-knjizevnosti-2024/
ATTACH;FMTTYPE=image/jpeg:https://kritika-hdp.hr/wp-content/uploads/2024/07/ivan-stanisic.jpg
END:VEVENT
END:VCALENDAR