BEGIN:VCALENDAR
VERSION:2.0
PRODID:-//Kritika HDP - ECPv6.15.20//NONSGML v1.0//EN
CALSCALE:GREGORIAN
METHOD:PUBLISH
X-WR-CALNAME:Kritika HDP
X-ORIGINAL-URL:https://kritika-hdp.hr
X-WR-CALDESC:Događaji za Kritika HDP
REFRESH-INTERVAL;VALUE=DURATION:PT1H
X-Robots-Tag:noindex
X-PUBLISHED-TTL:PT1H
BEGIN:VTIMEZONE
TZID:Europe/Zagreb
BEGIN:DAYLIGHT
TZOFFSETFROM:+0100
TZOFFSETTO:+0200
TZNAME:CEST
DTSTART:20210328T010000
END:DAYLIGHT
BEGIN:STANDARD
TZOFFSETFROM:+0200
TZOFFSETTO:+0100
TZNAME:CET
DTSTART:20211031T010000
END:STANDARD
BEGIN:DAYLIGHT
TZOFFSETFROM:+0100
TZOFFSETTO:+0200
TZNAME:CEST
DTSTART:20220327T010000
END:DAYLIGHT
BEGIN:STANDARD
TZOFFSETFROM:+0200
TZOFFSETTO:+0100
TZNAME:CET
DTSTART:20221030T010000
END:STANDARD
BEGIN:DAYLIGHT
TZOFFSETFROM:+0100
TZOFFSETTO:+0200
TZNAME:CEST
DTSTART:20230326T010000
END:DAYLIGHT
BEGIN:STANDARD
TZOFFSETFROM:+0200
TZOFFSETTO:+0100
TZNAME:CET
DTSTART:20231029T010000
END:STANDARD
END:VTIMEZONE
BEGIN:VEVENT
DTSTART;VALUE=DATE:20220512
DTEND;VALUE=DATE:20220516
DTSTAMP:20260419T183344
CREATED:20220509T153000Z
LAST-MODIFIED:20220722T112909Z
UID:1366-1652313600-1652659199@kritika-hdp.hr
SUMMARY:Brdo knjiga - festival knjiga i planina
DESCRIPTION:Prvo izdanje Brda knjiga\, festivala knjiga i planina\, održava se sredinom svibnja. \nFestival koji približava literaturu onima koji slobodno vrijeme provode u planinama\, kao i planine onima koji uživaju u čitanju\, ugostit će Edu Popovića\, Andreja Štremfelja\, Mariju Štremfelj\, Sinana Gudževića\, Zehrudina Isakovića\, Milana Majerović-Stilinovića\, Mateja Meštrovića\, Elis Lovrić\, Ivicu Prtenjaču\, Ivana Juretića. \nDok cjelovit program možete naći na sljedećoj poveznici: program\, za informacije o samom festivalu posjetite: Brdo knjiga.
URL:https://kritika-hdp.hr/dogadjaji/brdo-knjiga-festival-knjiga-i-planina/
END:VEVENT
END:VCALENDAR