BEGIN:VCALENDAR
VERSION:2.0
PRODID:-//Kritika HDP - ECPv6.15.20//NONSGML v1.0//EN
CALSCALE:GREGORIAN
METHOD:PUBLISH
X-WR-CALNAME:Kritika HDP
X-ORIGINAL-URL:https://kritika-hdp.hr
X-WR-CALDESC:Događaji za Kritika HDP
REFRESH-INTERVAL;VALUE=DURATION:PT1H
X-Robots-Tag:noindex
X-PUBLISHED-TTL:PT1H
BEGIN:VTIMEZONE
TZID:Europe/Zagreb
BEGIN:DAYLIGHT
TZOFFSETFROM:+0100
TZOFFSETTO:+0200
TZNAME:CEST
DTSTART:20240331T010000
END:DAYLIGHT
BEGIN:STANDARD
TZOFFSETFROM:+0200
TZOFFSETTO:+0100
TZNAME:CET
DTSTART:20241027T010000
END:STANDARD
BEGIN:DAYLIGHT
TZOFFSETFROM:+0100
TZOFFSETTO:+0200
TZNAME:CEST
DTSTART:20250330T010000
END:DAYLIGHT
BEGIN:STANDARD
TZOFFSETFROM:+0200
TZOFFSETTO:+0100
TZNAME:CET
DTSTART:20251026T010000
END:STANDARD
BEGIN:DAYLIGHT
TZOFFSETFROM:+0100
TZOFFSETTO:+0200
TZNAME:CEST
DTSTART:20260329T010000
END:DAYLIGHT
BEGIN:STANDARD
TZOFFSETFROM:+0200
TZOFFSETTO:+0100
TZNAME:CET
DTSTART:20261025T010000
END:STANDARD
END:VTIMEZONE
BEGIN:VEVENT
DTSTART;VALUE=DATE:20250620
DTEND;VALUE=DATE:20250802
DTSTAMP:20260421T013037
CREATED:20250620T161340Z
LAST-MODIFIED:20250620T161413Z
UID:16784-1750377600-1754092799@kritika-hdp.hr
SUMMARY:Art radionica Lazareti objavila javni poziv za 2026. godinu
DESCRIPTION:  \n\n\nArt radionica Lazareti (ARL) poziva umjetnike i umjetnice\, autore i autorice\, umjetničke organizacije\, udruge\, građane i građanke\, kustose i kustosice\, dosadašnje i buduće suradnike i suradnice\, partnere\, prijatelje te sve zainteresirane da prijave svoje prijedloge umjetničkih\, kulturnih i društvenih aktivnosti na Javni poziv za aktivnosti koji će se realizirati tijekom 2026. godine.\n\nPozivamo vas da prijavite aktivnosti i programe iz područja suvremene umjetnosti i kulture koji: \n\npotiču umjetničko stvaralaštvo i produkciju novih radova\,\ndoprinose distribuciji suvremenog umjetničkog i kulturnog sadržaja\,\npromiču mobilnost umjetnika i umjetničkih radova\,\npredstavljaju i promoviraju rad mladih umjetnika i novih organizacija\,\nosnažuju društveni angažman kroz umjetnost\,\nistražuju i razvijaju deficitarne ili manje zastupljene oblike kulturnog i društvenog djelovanja\,\npotiču međusektorsku i interdisciplinarnu suradnju\,\nuključuju i angažiraju lokalnu zajednicu\,\nprovode istraživačke i diskurzivne aktivnosti.\n\n\n\n\n\nPrimjeri aktivnosti po programskim linijama: \nGalerija Otok:\nSamostalne i skupne izložbe\, knjige umjetnika\, rezidencijalni i istraživački boravci\, kustoski i stručni boravci\, (ko)produkcije novih umjetničkih radova\, razvoj i priprema koncepata novih izložbi i projekata\, performansi\, suradnički projekti\, rad s lokalnom zajednicom\, intervencije u javnom prostoru ili prirodnom okolišu\, site-specific radovi za javne gradske prostore ili prostore u okolici Dubrovnika. \nScena Karantena:\nGostovanja suvremenih dramskih i plesnih produkcija\, rezidencijalni boravci (do 4 osobe\, maksimalno 10 dana u razdobljima siječanj – travanj i studeni – prosinac). \nParticipacija / Protuotrov:\nKreativne i edukativne radionice\, razmjena znanja i vještina\, predavanja\, javni razgovori\, diskurzivne aktivnosti\, društveni angažman\, rad s arhivom ARL-a\, predstavljanja relevantnih projekata i istraživanja\, filmski i glazbeni programi\, rezidencijalni boravci za istraživače i suradnike. \nKnjiževnost u Lazaretima:\nKnjiževni razgovori\, radionice\, tematski čitalački klubovi\, predstavljanje novih knjiga\, autora i izdavača\, rezidencijalni boravci za pisce. \n\n\n\nVažne napomene: \n\nSve prijavljene aktivnosti moraju biti otvorene za javnost ili imati javan aspekt realizacije (npr. prezentacija\, razgovor\, radionica).\nDio programa ARL će realizirati pozivno\, prema odabiru Programskog vijeća i voditelja programa; dio programa bit će odabran putem ovog Javnog poziva.\nRealizacija odabranih prijedloga ovisi o dostupnim financijskim sredstvima. U slučaju djelomično odobrenog financiranja\, ARL će u dogovoru s autorima prilagoditi opseg i način provedbe.\nAko ista aktivnost bude odabrana i putem Javnog poziva ARL-a i Javnog poziva HDLU Dubrovnik/Galerije Flora\, programska vijeća obje institucije uskladit će realizaciju.\nARL će uskladiti provedbu aktivnosti s tehničkim\, terminskim\, prostornim i produkcijskim uvjetima te dostupnim sredstvima.\nOdabrane prijedloge ARL će prijaviti na natječaje za financiranje iz javnih izvora (Grad Dubrovnik\, Ministarstvo kulture i medija RH\, Zaklada Kultura nova i dr.).\nSmatramo da svi koji prijave prijedlog na ovaj Javni poziv daju dozvolu ARL-u za korištenje priloženih materijala u prijavama za financiranje.\nTermini za rezidencijalne boravke su siječanj – travanj i studeni – prosinac.\nTehničke specifikacije i tlocrte Galerije Otok i Lađe X\, kao i popis opreme i tehnički kapaciteti za izvedbene programe dostupni su putem e-pošte arl@arl.hr i na stranici www.arl.hr.\n\n\n\n\n\n\nPrijave su otvorene do 1. 8. 2025.\n\n\nViše informacija i detalji poziva: https://forms.gle/BJ9KhBfai2DSFyWV9\n\n\narl@arl.hr
URL:https://kritika-hdp.hr/dogadjaji/art-radionica-lazareti-objavila-javni-poziv-za-2026-godinu/
ATTACH;FMTTYPE=image/jpeg:https://kritika-hdp.hr/wp-content/uploads/2025/06/505480566_1289975456462243_8021260487831855144_n.jpg
END:VEVENT
END:VCALENDAR